BEGIN:VCALENDAR
VERSION:2.0
PRODID:-//Cape Coral Community Church - ECPv6.15.20//NONSGML v1.0//EN
CALSCALE:GREGORIAN
METHOD:PUBLISH
X-ORIGINAL-URL:https://capecoralchurch.com
X-WR-CALDESC:Events for Cape Coral Community Church
REFRESH-INTERVAL;VALUE=DURATION:PT1H
X-Robots-Tag:noindex
X-PUBLISHED-TTL:PT1H
BEGIN:VTIMEZONE
TZID:America/New_York
BEGIN:DAYLIGHT
TZOFFSETFROM:-0500
TZOFFSETTO:-0400
TZNAME:EDT
DTSTART:20250309T070000
END:DAYLIGHT
BEGIN:STANDARD
TZOFFSETFROM:-0400
TZOFFSETTO:-0500
TZNAME:EST
DTSTART:20251102T060000
END:STANDARD
BEGIN:DAYLIGHT
TZOFFSETFROM:-0500
TZOFFSETTO:-0400
TZNAME:EDT
DTSTART:20260308T070000
END:DAYLIGHT
BEGIN:STANDARD
TZOFFSETFROM:-0400
TZOFFSETTO:-0500
TZNAME:EST
DTSTART:20261101T060000
END:STANDARD
BEGIN:DAYLIGHT
TZOFFSETFROM:-0500
TZOFFSETTO:-0400
TZNAME:EDT
DTSTART:20270314T070000
END:DAYLIGHT
BEGIN:STANDARD
TZOFFSETFROM:-0400
TZOFFSETTO:-0500
TZNAME:EST
DTSTART:20271107T060000
END:STANDARD
END:VTIMEZONE
BEGIN:VEVENT
DTSTART;TZID=America/New_York:20260814T180000
DTEND;TZID=America/New_York:20260814T190000
DTSTAMP:20260423T061206
CREATED:20260207T072838Z
LAST-MODIFIED:20260413T175609Z
UID:29173-1786730400-1786734000@capecoralchurch.com
SUMMARY:Prayer Night
DESCRIPTION:Fellowship Hall
URL:https://capecoralchurch.com/event/prayer-night-8/
LOCATION:Cape Coral Community Church
CATEGORIES:Service
END:VEVENT
BEGIN:VEVENT
DTSTART;TZID=America/New_York:20260819T183000
DTEND;TZID=America/New_York:20260819T193000
DTSTAMP:20260423T061206
CREATED:20260420T122817Z
LAST-MODIFIED:20260420T122817Z
UID:29700-1787164200-1787167800@capecoralchurch.com
SUMMARY:C4 Youth
DESCRIPTION:Wednesday from 6:30-7:30 pm in the\nfellowship hall with Cory & Melinda Winn
URL:https://capecoralchurch.com/event/c4-youth-95/
LOCATION:Cape Coral Community Church
CATEGORIES:Youth
END:VEVENT
BEGIN:VEVENT
DTSTART;TZID=America/New_York:20260821T190000
DTEND;TZID=America/New_York:20260821T210000
DTSTAMP:20260423T061206
CREATED:20260413T175654Z
LAST-MODIFIED:20260413T175654Z
UID:29648-1787338800-1787346000@capecoralchurch.com
SUMMARY:The Chosen Series
DESCRIPTION:7:00 pm in the\nFellowship hall
URL:https://capecoralchurch.com/event/the-chosen-series-6/
LOCATION:Cape Coral Community Church
CATEGORIES:Community Event
END:VEVENT
BEGIN:VEVENT
DTSTART;TZID=America/New_York:20260822T160000
DTEND;TZID=America/New_York:20260822T180000
DTSTAMP:20260423T061206
CREATED:20260402T062816Z
LAST-MODIFIED:20260402T062816Z
UID:29612-1787414400-1787421600@capecoralchurch.com
SUMMARY:Feed the Need
DESCRIPTION:  \n  \n 
URL:https://capecoralchurch.com/event/feed-the-need-5/
LOCATION:Cape Coral Community Church
CATEGORIES:Missions
ATTACH;FMTTYPE=image/jpeg:https://capecoralchurch.com/wp-content/uploads/2026/04/feed-the-need.jpg
END:VEVENT
BEGIN:VEVENT
DTSTART;TZID=America/New_York:20260826T183000
DTEND;TZID=America/New_York:20260826T193000
DTSTAMP:20260423T061206
CREATED:20260420T122914Z
LAST-MODIFIED:20260420T122914Z
UID:29702-1787769000-1787772600@capecoralchurch.com
SUMMARY:C4 Youth
DESCRIPTION:Wednesday from 6:30-7:30 pm in the\nfellowship hall with Cory & Melinda Winn
URL:https://capecoralchurch.com/event/c4-youth-96/
LOCATION:Cape Coral Community Church
CATEGORIES:Youth
END:VEVENT
BEGIN:VEVENT
DTSTART;TZID=America/New_York:20260902T183000
DTEND;TZID=America/New_York:20260902T193000
DTSTAMP:20260423T061206
CREATED:20260420T122959Z
LAST-MODIFIED:20260420T122959Z
UID:29704-1788373800-1788377400@capecoralchurch.com
SUMMARY:C4 Youth
DESCRIPTION:Wednesday from 6:30-7:30 pm in the\nfellowship hall with Cory & Melinda Winn
URL:https://capecoralchurch.com/event/c4-youth-97/
LOCATION:Cape Coral Community Church
CATEGORIES:Youth
END:VEVENT
BEGIN:VEVENT
DTSTART;TZID=America/New_York:20260904T190000
DTEND;TZID=America/New_York:20260904T210000
DTSTAMP:20260423T061206
CREATED:20260207T083332Z
LAST-MODIFIED:20260413T175924Z
UID:29228-1788548400-1788555600@capecoralchurch.com
SUMMARY:The Chosen Series
DESCRIPTION:7:00 pm in the\nFellowship hall
URL:https://capecoralchurch.com/event/the-chosen-series-8/
LOCATION:Cape Coral Community Church
CATEGORIES:Community Event
END:VEVENT
BEGIN:VEVENT
DTSTART;TZID=America/New_York:20260909T183000
DTEND;TZID=America/New_York:20260909T193000
DTSTAMP:20260423T061206
CREATED:20260420T123126Z
LAST-MODIFIED:20260420T123126Z
UID:29706-1788978600-1788982200@capecoralchurch.com
SUMMARY:C4 Youth
DESCRIPTION:Wednesday from 6:30-7:30 pm in the\nfellowship hall with Cory & Melinda Winn
URL:https://capecoralchurch.com/event/c4-youth-98/
LOCATION:Cape Coral Community Church
CATEGORIES:Youth
END:VEVENT
BEGIN:VEVENT
DTSTART;TZID=America/New_York:20260911T180000
DTEND;TZID=America/New_York:20260911T190000
DTSTAMP:20260423T061206
CREATED:20260207T072913Z
LAST-MODIFIED:20260413T175826Z
UID:29175-1789149600-1789153200@capecoralchurch.com
SUMMARY:Prayer Night
DESCRIPTION:Fellowship Hall
URL:https://capecoralchurch.com/event/prayer-night-9/
LOCATION:Cape Coral Community Church
CATEGORIES:Service
END:VEVENT
BEGIN:VEVENT
DTSTART;TZID=America/New_York:20260916T183000
DTEND;TZID=America/New_York:20260916T193000
DTSTAMP:20260423T061206
CREATED:20260420T123209Z
LAST-MODIFIED:20260420T123209Z
UID:29708-1789583400-1789587000@capecoralchurch.com
SUMMARY:C4 Youth
DESCRIPTION:Wednesday from 6:30-7:30 pm in the\nfellowship hall with Cory & Melinda Winn
URL:https://capecoralchurch.com/event/c4-youth-99/
LOCATION:Cape Coral Community Church
CATEGORIES:Youth
END:VEVENT
BEGIN:VEVENT
DTSTART;TZID=America/New_York:20260918T190000
DTEND;TZID=America/New_York:20260918T210000
DTSTAMP:20260423T061206
CREATED:20260413T175946Z
LAST-MODIFIED:20260413T175946Z
UID:29652-1789758000-1789765200@capecoralchurch.com
SUMMARY:The Chosen Series
DESCRIPTION:7:00 pm in the\nFellowship hall
URL:https://capecoralchurch.com/event/the-chosen-series-14/
LOCATION:Cape Coral Community Church
CATEGORIES:Community Event
END:VEVENT
BEGIN:VEVENT
DTSTART;TZID=America/New_York:20260923T183000
DTEND;TZID=America/New_York:20260923T193000
DTSTAMP:20260423T061206
CREATED:20260420T123310Z
LAST-MODIFIED:20260420T123310Z
UID:29710-1790188200-1790191800@capecoralchurch.com
SUMMARY:C4 Youth
DESCRIPTION:Wednesday from 6:30-7:30 pm in the\nfellowship hall with Cory & Melinda Winn
URL:https://capecoralchurch.com/event/c4-youth-100/
LOCATION:Cape Coral Community Church
CATEGORIES:Youth
END:VEVENT
BEGIN:VEVENT
DTSTART;TZID=America/New_York:20260926T160000
DTEND;TZID=America/New_York:20260926T180000
DTSTAMP:20260423T061206
CREATED:20260402T062845Z
LAST-MODIFIED:20260402T062845Z
UID:29614-1790438400-1790445600@capecoralchurch.com
SUMMARY:Feed the Need
DESCRIPTION:  \n  \n 
URL:https://capecoralchurch.com/event/feed-the-need-6/
LOCATION:Cape Coral Community Church
CATEGORIES:Missions
ATTACH;FMTTYPE=image/jpeg:https://capecoralchurch.com/wp-content/uploads/2026/04/feed-the-need.jpg
END:VEVENT
BEGIN:VEVENT
DTSTART;TZID=America/New_York:20260930T183000
DTEND;TZID=America/New_York:20260930T193000
DTSTAMP:20260423T061206
CREATED:20260420T123354Z
LAST-MODIFIED:20260420T123354Z
UID:29712-1790793000-1790796600@capecoralchurch.com
SUMMARY:C4 Youth
DESCRIPTION:Wednesday from 6:30-7:30 pm in the\nfellowship hall with Cory & Melinda Winn
URL:https://capecoralchurch.com/event/c4-youth-101/
LOCATION:Cape Coral Community Church
CATEGORIES:Youth
END:VEVENT
BEGIN:VEVENT
DTSTART;TZID=America/New_York:20261002T190000
DTEND;TZID=America/New_York:20261002T210000
DTSTAMP:20260423T061206
CREATED:20260207T083413Z
LAST-MODIFIED:20260413T180115Z
UID:29230-1790967600-1790974800@capecoralchurch.com
SUMMARY:The Chosen Series
DESCRIPTION:7:00 pm in the\nFellowship hall
URL:https://capecoralchurch.com/event/the-chosen-series-9/
LOCATION:Cape Coral Community Church
CATEGORIES:Community Event
END:VEVENT
BEGIN:VEVENT
DTSTART;TZID=America/New_York:20261007T183000
DTEND;TZID=America/New_York:20261007T193000
DTSTAMP:20260423T061206
CREATED:20260420T123516Z
LAST-MODIFIED:20260420T123516Z
UID:29714-1791397800-1791401400@capecoralchurch.com
SUMMARY:C4 Youth
DESCRIPTION:Wednesday from 6:30-7:30 pm in the\nfellowship hall with Cory & Melinda Winn
URL:https://capecoralchurch.com/event/c4-youth-102/
LOCATION:Cape Coral Community Church
CATEGORIES:Youth
END:VEVENT
BEGIN:VEVENT
DTSTART;TZID=America/New_York:20261009T180000
DTEND;TZID=America/New_York:20261009T190000
DTSTAMP:20260423T061206
CREATED:20260207T072947Z
LAST-MODIFIED:20260413T180028Z
UID:29177-1791568800-1791572400@capecoralchurch.com
SUMMARY:Prayer Night
DESCRIPTION:Fellowship Hall
URL:https://capecoralchurch.com/event/prayer-night-10/
LOCATION:Cape Coral Community Church
CATEGORIES:Service
END:VEVENT
BEGIN:VEVENT
DTSTART;TZID=America/New_York:20261014T183000
DTEND;TZID=America/New_York:20261014T193000
DTSTAMP:20260423T061206
CREATED:20260420T123604Z
LAST-MODIFIED:20260420T123604Z
UID:29716-1792002600-1792006200@capecoralchurch.com
SUMMARY:C4 Youth
DESCRIPTION:Wednesday from 6:30-7:30 pm in the\nfellowship hall with Cory & Melinda Winn
URL:https://capecoralchurch.com/event/c4-youth-103/
LOCATION:Cape Coral Community Church
CATEGORIES:Youth
END:VEVENT
BEGIN:VEVENT
DTSTART;TZID=America/New_York:20261016T190000
DTEND;TZID=America/New_York:20261016T210000
DTSTAMP:20260423T061206
CREATED:20260413T180159Z
LAST-MODIFIED:20260413T180159Z
UID:29655-1792177200-1792184400@capecoralchurch.com
SUMMARY:The Chosen Series
DESCRIPTION:7:00 pm in the\nFellowship hall
URL:https://capecoralchurch.com/event/the-chosen-series-15/
LOCATION:Cape Coral Community Church
CATEGORIES:Community Event
END:VEVENT
BEGIN:VEVENT
DTSTART;TZID=America/New_York:20261021T183000
DTEND;TZID=America/New_York:20261021T193000
DTSTAMP:20260423T061206
CREATED:20260420T123725Z
LAST-MODIFIED:20260420T124418Z
UID:29718-1792607400-1792611000@capecoralchurch.com
SUMMARY:C4 Youth
DESCRIPTION:Wednesday from 6:30-7:30 pm in the\nfellowship hall with Cory & Melinda Winn
URL:https://capecoralchurch.com/event/c4-youth-104/
LOCATION:Cape Coral Community Church
CATEGORIES:Youth
END:VEVENT
BEGIN:VEVENT
DTSTART;TZID=America/New_York:20261024T160000
DTEND;TZID=America/New_York:20261024T180000
DTSTAMP:20260423T061206
CREATED:20260402T062919Z
LAST-MODIFIED:20260402T062919Z
UID:29616-1792857600-1792864800@capecoralchurch.com
SUMMARY:Feed the Need
DESCRIPTION:  \n  \n 
URL:https://capecoralchurch.com/event/feed-the-need-7/
LOCATION:Cape Coral Community Church
CATEGORIES:Missions
ATTACH;FMTTYPE=image/jpeg:https://capecoralchurch.com/wp-content/uploads/2026/04/feed-the-need.jpg
END:VEVENT
BEGIN:VEVENT
DTSTART;TZID=America/New_York:20261028T183000
DTEND;TZID=America/New_York:20261028T193000
DTSTAMP:20260423T061206
CREATED:20260420T124605Z
LAST-MODIFIED:20260420T124605Z
UID:29720-1793212200-1793215800@capecoralchurch.com
SUMMARY:C4 Youth
DESCRIPTION:Wednesday from 6:30-7:30 pm in the\nfellowship hall with Cory & Melinda Winn
URL:https://capecoralchurch.com/event/c4-youth-105/
LOCATION:Cape Coral Community Church
CATEGORIES:Youth
END:VEVENT
BEGIN:VEVENT
DTSTART;TZID=America/New_York:20261128T160000
DTEND;TZID=America/New_York:20261128T180000
DTSTAMP:20260423T061206
CREATED:20260402T062940Z
LAST-MODIFIED:20260402T062940Z
UID:29618-1795881600-1795888800@capecoralchurch.com
SUMMARY:Feed the Need
DESCRIPTION:  \n  \n 
URL:https://capecoralchurch.com/event/feed-the-need-8/
LOCATION:Cape Coral Community Church
CATEGORIES:Missions
ATTACH;FMTTYPE=image/jpeg:https://capecoralchurch.com/wp-content/uploads/2026/04/feed-the-need.jpg
END:VEVENT
BEGIN:VEVENT
DTSTART;TZID=America/New_York:20261226T160000
DTEND;TZID=America/New_York:20261226T180000
DTSTAMP:20260423T061206
CREATED:20260402T063016Z
LAST-MODIFIED:20260402T063016Z
UID:29620-1798300800-1798308000@capecoralchurch.com
SUMMARY:Feed the Need
DESCRIPTION:  \n  \n 
URL:https://capecoralchurch.com/event/feed-the-need-9/
LOCATION:Cape Coral Community Church
CATEGORIES:Missions
ATTACH;FMTTYPE=image/jpeg:https://capecoralchurch.com/wp-content/uploads/2026/04/feed-the-need.jpg
END:VEVENT
END:VCALENDAR