BEGIN:VCALENDAR
VERSION:2.0
PRODID:-//Cape Coral Community Church - ECPv6.15.20//NONSGML v1.0//EN
CALSCALE:GREGORIAN
METHOD:PUBLISH
X-WR-CALNAME:Cape Coral Community Church
X-ORIGINAL-URL:https://capecoralchurch.com
X-WR-CALDESC:Events for Cape Coral Community Church
REFRESH-INTERVAL;VALUE=DURATION:PT1H
X-Robots-Tag:noindex
X-PUBLISHED-TTL:PT1H
BEGIN:VTIMEZONE
TZID:America/New_York
BEGIN:DAYLIGHT
TZOFFSETFROM:-0500
TZOFFSETTO:-0400
TZNAME:EDT
DTSTART:20250309T070000
END:DAYLIGHT
BEGIN:STANDARD
TZOFFSETFROM:-0400
TZOFFSETTO:-0500
TZNAME:EST
DTSTART:20251102T060000
END:STANDARD
BEGIN:DAYLIGHT
TZOFFSETFROM:-0500
TZOFFSETTO:-0400
TZNAME:EDT
DTSTART:20260308T070000
END:DAYLIGHT
BEGIN:STANDARD
TZOFFSETFROM:-0400
TZOFFSETTO:-0500
TZNAME:EST
DTSTART:20261101T060000
END:STANDARD
BEGIN:DAYLIGHT
TZOFFSETFROM:-0500
TZOFFSETTO:-0400
TZNAME:EDT
DTSTART:20270314T070000
END:DAYLIGHT
BEGIN:STANDARD
TZOFFSETFROM:-0400
TZOFFSETTO:-0500
TZNAME:EST
DTSTART:20271107T060000
END:STANDARD
END:VTIMEZONE
BEGIN:VEVENT
DTSTART;TZID=America/New_York:20260610T183000
DTEND;TZID=America/New_York:20260610T193000
DTSTAMP:20260423T074129
CREATED:20260420T121703Z
LAST-MODIFIED:20260420T121703Z
UID:29680-1781116200-1781119800@capecoralchurch.com
SUMMARY:C4 Youth
DESCRIPTION:Wednesday from 6:30-7:30 pm in the\nfellowship hall with Cory & Melinda Winn
URL:https://capecoralchurch.com/event/c4-youth-85/
LOCATION:Cape Coral Community Church
CATEGORIES:Youth
END:VEVENT
BEGIN:VEVENT
DTSTART;TZID=America/New_York:20260612T180000
DTEND;TZID=America/New_York:20260612T190000
DTSTAMP:20260423T074129
CREATED:20260207T072448Z
LAST-MODIFIED:20260413T174931Z
UID:29169-1781287200-1781290800@capecoralchurch.com
SUMMARY:Prayer Night
DESCRIPTION:Fellowship Hall
URL:https://capecoralchurch.com/event/prayer-night-6/
LOCATION:Cape Coral Community Church
CATEGORIES:Service
END:VEVENT
BEGIN:VEVENT
DTSTART;TZID=America/New_York:20260617T183000
DTEND;TZID=America/New_York:20260617T193000
DTSTAMP:20260423T074129
CREATED:20260420T121756Z
LAST-MODIFIED:20260420T121756Z
UID:29682-1781721000-1781724600@capecoralchurch.com
SUMMARY:C4 Youth
DESCRIPTION:Wednesday from 6:30-7:30 pm in the\nfellowship hall with Cory & Melinda Winn
URL:https://capecoralchurch.com/event/c4-youth-86/
LOCATION:Cape Coral Community Church
CATEGORIES:Youth
END:VEVENT
BEGIN:VEVENT
DTSTART;TZID=America/New_York:20260619T190000
DTEND;TZID=America/New_York:20260619T210000
DTSTAMP:20260423T074129
CREATED:20260413T175029Z
LAST-MODIFIED:20260413T175029Z
UID:29639-1781895600-1781902800@capecoralchurch.com
SUMMARY:The Chosen Series
DESCRIPTION:Fellowship hall
URL:https://capecoralchurch.com/event/the-chosen-series-11/
LOCATION:Cape Coral Community Church
CATEGORIES:Community Event
END:VEVENT
BEGIN:VEVENT
DTSTART;TZID=America/New_York:20260624T183000
DTEND;TZID=America/New_York:20260624T193000
DTSTAMP:20260423T074129
CREATED:20260420T121849Z
LAST-MODIFIED:20260420T121849Z
UID:29684-1782325800-1782329400@capecoralchurch.com
SUMMARY:C4 Youth
DESCRIPTION:Wednesday from 6:30-7:30 pm in the\nfellowship hall with Cory & Melinda Winn
URL:https://capecoralchurch.com/event/c4-youth-87/
LOCATION:Cape Coral Community Church
CATEGORIES:Youth
END:VEVENT
BEGIN:VEVENT
DTSTART;TZID=America/New_York:20260627T160000
DTEND;TZID=America/New_York:20260627T180000
DTSTAMP:20260423T074129
CREATED:20260402T062118Z
LAST-MODIFIED:20260402T062118Z
UID:29607-1782576000-1782583200@capecoralchurch.com
SUMMARY:Feed the Need
DESCRIPTION:  \n  \n 
URL:https://capecoralchurch.com/event/feed-the-need-3/
LOCATION:Cape Coral Community Church
CATEGORIES:Missions
ATTACH;FMTTYPE=image/jpeg:https://capecoralchurch.com/wp-content/uploads/2026/04/feed-the-need.jpg
END:VEVENT
BEGIN:VEVENT
DTSTART;TZID=America/New_York:20260701T183000
DTEND;TZID=America/New_York:20260701T193000
DTSTAMP:20260423T074129
CREATED:20260420T122212Z
LAST-MODIFIED:20260420T122212Z
UID:29686-1782930600-1782934200@capecoralchurch.com
SUMMARY:C4 Youth
DESCRIPTION:Wednesday from 6:30-7:30 pm in the\nfellowship hall with Cory & Melinda Winn
URL:https://capecoralchurch.com/event/c4-youth-88/
LOCATION:Cape Coral Community Church
CATEGORIES:Youth
END:VEVENT
BEGIN:VEVENT
DTSTART;TZID=America/New_York:20260703T190000
DTEND;TZID=America/New_York:20260703T210000
DTSTAMP:20260423T074129
CREATED:20260413T175412Z
LAST-MODIFIED:20260413T175412Z
UID:29643-1783105200-1783112400@capecoralchurch.com
SUMMARY:The Chosen Series
DESCRIPTION:Fellowship hall
URL:https://capecoralchurch.com/event/the-chosen-series-12/
LOCATION:Cape Coral Community Church
CATEGORIES:Community Event
END:VEVENT
BEGIN:VEVENT
DTSTART;TZID=America/New_York:20260708T183000
DTEND;TZID=America/New_York:20260708T193000
DTSTAMP:20260423T074129
CREATED:20260420T122255Z
LAST-MODIFIED:20260420T122255Z
UID:29688-1783535400-1783539000@capecoralchurch.com
SUMMARY:C4 Youth
DESCRIPTION:Wednesday from 6:30-7:30 pm in the\nfellowship hall with Cory & Melinda Winn
URL:https://capecoralchurch.com/event/c4-youth-89/
LOCATION:Cape Coral Community Church
CATEGORIES:Youth
END:VEVENT
BEGIN:VEVENT
DTSTART;TZID=America/New_York:20260710T180000
DTEND;TZID=America/New_York:20260710T190000
DTSTAMP:20260423T074129
CREATED:20260207T072741Z
LAST-MODIFIED:20260413T175230Z
UID:29171-1783706400-1783710000@capecoralchurch.com
SUMMARY:Prayer Night
DESCRIPTION:Fellowship Hall
URL:https://capecoralchurch.com/event/prayer-night-7/
LOCATION:Cape Coral Community Church
CATEGORIES:Service
END:VEVENT
BEGIN:VEVENT
DTSTART;TZID=America/New_York:20260715T183000
DTEND;TZID=America/New_York:20260715T193000
DTSTAMP:20260423T074129
CREATED:20260420T122335Z
LAST-MODIFIED:20260420T122335Z
UID:29690-1784140200-1784143800@capecoralchurch.com
SUMMARY:C4 Youth
DESCRIPTION:Wednesday from 6:30-7:30 pm in the\nfellowship hall with Cory & Melinda Winn
URL:https://capecoralchurch.com/event/c4-youth-90/
LOCATION:Cape Coral Community Church
CATEGORIES:Youth
END:VEVENT
BEGIN:VEVENT
DTSTART;TZID=America/New_York:20260717T190000
DTEND;TZID=America/New_York:20260717T210000
DTSTAMP:20260423T074129
CREATED:20260413T175435Z
LAST-MODIFIED:20260413T175435Z
UID:29645-1784314800-1784322000@capecoralchurch.com
SUMMARY:The Chosen Series
DESCRIPTION:Fellowship hall
URL:https://capecoralchurch.com/event/the-chosen-series-13/
LOCATION:Cape Coral Community Church
CATEGORIES:Community Event
END:VEVENT
BEGIN:VEVENT
DTSTART;TZID=America/New_York:20260722T183000
DTEND;TZID=America/New_York:20260722T193000
DTSTAMP:20260423T074129
CREATED:20260420T122424Z
LAST-MODIFIED:20260420T122424Z
UID:29692-1784745000-1784748600@capecoralchurch.com
SUMMARY:C4 Youth
DESCRIPTION:Wednesday from 6:30-7:30 pm in the\nfellowship hall with Cory & Melinda Winn
URL:https://capecoralchurch.com/event/c4-youth-91/
LOCATION:Cape Coral Community Church
CATEGORIES:Youth
END:VEVENT
BEGIN:VEVENT
DTSTART;TZID=America/New_York:20260725T160000
DTEND;TZID=America/New_York:20260725T180000
DTSTAMP:20260423T074129
CREATED:20260402T062144Z
LAST-MODIFIED:20260402T062144Z
UID:29609-1784995200-1785002400@capecoralchurch.com
SUMMARY:Feed the Need
DESCRIPTION:  \n  \n 
URL:https://capecoralchurch.com/event/feed-the-need-4/
LOCATION:Cape Coral Community Church
CATEGORIES:Missions
ATTACH;FMTTYPE=image/jpeg:https://capecoralchurch.com/wp-content/uploads/2026/04/feed-the-need.jpg
END:VEVENT
BEGIN:VEVENT
DTSTART;TZID=America/New_York:20260729T183000
DTEND;TZID=America/New_York:20260729T193000
DTSTAMP:20260423T074129
CREATED:20260420T122529Z
LAST-MODIFIED:20260420T122529Z
UID:29694-1785349800-1785353400@capecoralchurch.com
SUMMARY:C4 Youth
DESCRIPTION:Wednesday from 6:30-7:30 pm in the\nfellowship hall with Cory & Melinda Winn
URL:https://capecoralchurch.com/event/c4-youth-92/
LOCATION:Cape Coral Community Church
CATEGORIES:Youth
END:VEVENT
BEGIN:VEVENT
DTSTART;TZID=America/New_York:20260805T183000
DTEND;TZID=America/New_York:20260805T193000
DTSTAMP:20260423T074129
CREATED:20260420T122625Z
LAST-MODIFIED:20260420T122625Z
UID:29696-1785954600-1785958200@capecoralchurch.com
SUMMARY:C4 Youth
DESCRIPTION:Wednesday from 6:30-7:30 pm in the\nfellowship hall with Cory & Melinda Winn
URL:https://capecoralchurch.com/event/c4-youth-93/
LOCATION:Cape Coral Community Church
CATEGORIES:Youth
END:VEVENT
BEGIN:VEVENT
DTSTART;TZID=America/New_York:20260807T190000
DTEND;TZID=America/New_York:20260807T210000
DTSTAMP:20260423T074129
CREATED:20260207T083235Z
LAST-MODIFIED:20260413T175636Z
UID:29226-1786129200-1786136400@capecoralchurch.com
SUMMARY:The Chosen Series
DESCRIPTION:7:00 pm in the\nFellowship hall
URL:https://capecoralchurch.com/event/the-chosen-series-7/
LOCATION:Cape Coral Community Church
CATEGORIES:Community Event
END:VEVENT
BEGIN:VEVENT
DTSTART;TZID=America/New_York:20260812T183000
DTEND;TZID=America/New_York:20260812T193000
DTSTAMP:20260423T074129
CREATED:20260420T122730Z
LAST-MODIFIED:20260420T122730Z
UID:29698-1786559400-1786563000@capecoralchurch.com
SUMMARY:C4 Youth
DESCRIPTION:Wednesday from 6:30-7:30 pm in the\nfellowship hall with Cory & Melinda Winn
URL:https://capecoralchurch.com/event/c4-youth-94/
LOCATION:Cape Coral Community Church
CATEGORIES:Youth
END:VEVENT
BEGIN:VEVENT
DTSTART;TZID=America/New_York:20260814T180000
DTEND;TZID=America/New_York:20260814T190000
DTSTAMP:20260423T074129
CREATED:20260207T072838Z
LAST-MODIFIED:20260413T175609Z
UID:29173-1786730400-1786734000@capecoralchurch.com
SUMMARY:Prayer Night
DESCRIPTION:Fellowship Hall
URL:https://capecoralchurch.com/event/prayer-night-8/
LOCATION:Cape Coral Community Church
CATEGORIES:Service
END:VEVENT
BEGIN:VEVENT
DTSTART;TZID=America/New_York:20260819T183000
DTEND;TZID=America/New_York:20260819T193000
DTSTAMP:20260423T074129
CREATED:20260420T122817Z
LAST-MODIFIED:20260420T122817Z
UID:29700-1787164200-1787167800@capecoralchurch.com
SUMMARY:C4 Youth
DESCRIPTION:Wednesday from 6:30-7:30 pm in the\nfellowship hall with Cory & Melinda Winn
URL:https://capecoralchurch.com/event/c4-youth-95/
LOCATION:Cape Coral Community Church
CATEGORIES:Youth
END:VEVENT
BEGIN:VEVENT
DTSTART;TZID=America/New_York:20260821T190000
DTEND;TZID=America/New_York:20260821T210000
DTSTAMP:20260423T074129
CREATED:20260413T175654Z
LAST-MODIFIED:20260413T175654Z
UID:29648-1787338800-1787346000@capecoralchurch.com
SUMMARY:The Chosen Series
DESCRIPTION:7:00 pm in the\nFellowship hall
URL:https://capecoralchurch.com/event/the-chosen-series-6/
LOCATION:Cape Coral Community Church
CATEGORIES:Community Event
END:VEVENT
BEGIN:VEVENT
DTSTART;TZID=America/New_York:20260822T160000
DTEND;TZID=America/New_York:20260822T180000
DTSTAMP:20260423T074129
CREATED:20260402T062816Z
LAST-MODIFIED:20260402T062816Z
UID:29612-1787414400-1787421600@capecoralchurch.com
SUMMARY:Feed the Need
DESCRIPTION:  \n  \n 
URL:https://capecoralchurch.com/event/feed-the-need-5/
LOCATION:Cape Coral Community Church
CATEGORIES:Missions
ATTACH;FMTTYPE=image/jpeg:https://capecoralchurch.com/wp-content/uploads/2026/04/feed-the-need.jpg
END:VEVENT
BEGIN:VEVENT
DTSTART;TZID=America/New_York:20260826T183000
DTEND;TZID=America/New_York:20260826T193000
DTSTAMP:20260423T074129
CREATED:20260420T122914Z
LAST-MODIFIED:20260420T122914Z
UID:29702-1787769000-1787772600@capecoralchurch.com
SUMMARY:C4 Youth
DESCRIPTION:Wednesday from 6:30-7:30 pm in the\nfellowship hall with Cory & Melinda Winn
URL:https://capecoralchurch.com/event/c4-youth-96/
LOCATION:Cape Coral Community Church
CATEGORIES:Youth
END:VEVENT
BEGIN:VEVENT
DTSTART;TZID=America/New_York:20260902T183000
DTEND;TZID=America/New_York:20260902T193000
DTSTAMP:20260423T074129
CREATED:20260420T122959Z
LAST-MODIFIED:20260420T122959Z
UID:29704-1788373800-1788377400@capecoralchurch.com
SUMMARY:C4 Youth
DESCRIPTION:Wednesday from 6:30-7:30 pm in the\nfellowship hall with Cory & Melinda Winn
URL:https://capecoralchurch.com/event/c4-youth-97/
LOCATION:Cape Coral Community Church
CATEGORIES:Youth
END:VEVENT
BEGIN:VEVENT
DTSTART;TZID=America/New_York:20260904T190000
DTEND;TZID=America/New_York:20260904T210000
DTSTAMP:20260423T074129
CREATED:20260207T083332Z
LAST-MODIFIED:20260413T175924Z
UID:29228-1788548400-1788555600@capecoralchurch.com
SUMMARY:The Chosen Series
DESCRIPTION:7:00 pm in the\nFellowship hall
URL:https://capecoralchurch.com/event/the-chosen-series-8/
LOCATION:Cape Coral Community Church
CATEGORIES:Community Event
END:VEVENT
BEGIN:VEVENT
DTSTART;TZID=America/New_York:20260909T183000
DTEND;TZID=America/New_York:20260909T193000
DTSTAMP:20260423T074129
CREATED:20260420T123126Z
LAST-MODIFIED:20260420T123126Z
UID:29706-1788978600-1788982200@capecoralchurch.com
SUMMARY:C4 Youth
DESCRIPTION:Wednesday from 6:30-7:30 pm in the\nfellowship hall with Cory & Melinda Winn
URL:https://capecoralchurch.com/event/c4-youth-98/
LOCATION:Cape Coral Community Church
CATEGORIES:Youth
END:VEVENT
BEGIN:VEVENT
DTSTART;TZID=America/New_York:20260911T180000
DTEND;TZID=America/New_York:20260911T190000
DTSTAMP:20260423T074129
CREATED:20260207T072913Z
LAST-MODIFIED:20260413T175826Z
UID:29175-1789149600-1789153200@capecoralchurch.com
SUMMARY:Prayer Night
DESCRIPTION:Fellowship Hall
URL:https://capecoralchurch.com/event/prayer-night-9/
LOCATION:Cape Coral Community Church
CATEGORIES:Service
END:VEVENT
BEGIN:VEVENT
DTSTART;TZID=America/New_York:20260916T183000
DTEND;TZID=America/New_York:20260916T193000
DTSTAMP:20260423T074129
CREATED:20260420T123209Z
LAST-MODIFIED:20260420T123209Z
UID:29708-1789583400-1789587000@capecoralchurch.com
SUMMARY:C4 Youth
DESCRIPTION:Wednesday from 6:30-7:30 pm in the\nfellowship hall with Cory & Melinda Winn
URL:https://capecoralchurch.com/event/c4-youth-99/
LOCATION:Cape Coral Community Church
CATEGORIES:Youth
END:VEVENT
BEGIN:VEVENT
DTSTART;TZID=America/New_York:20260918T190000
DTEND;TZID=America/New_York:20260918T210000
DTSTAMP:20260423T074129
CREATED:20260413T175946Z
LAST-MODIFIED:20260413T175946Z
UID:29652-1789758000-1789765200@capecoralchurch.com
SUMMARY:The Chosen Series
DESCRIPTION:7:00 pm in the\nFellowship hall
URL:https://capecoralchurch.com/event/the-chosen-series-14/
LOCATION:Cape Coral Community Church
CATEGORIES:Community Event
END:VEVENT
BEGIN:VEVENT
DTSTART;TZID=America/New_York:20260923T183000
DTEND;TZID=America/New_York:20260923T193000
DTSTAMP:20260423T074129
CREATED:20260420T123310Z
LAST-MODIFIED:20260420T123310Z
UID:29710-1790188200-1790191800@capecoralchurch.com
SUMMARY:C4 Youth
DESCRIPTION:Wednesday from 6:30-7:30 pm in the\nfellowship hall with Cory & Melinda Winn
URL:https://capecoralchurch.com/event/c4-youth-100/
LOCATION:Cape Coral Community Church
CATEGORIES:Youth
END:VEVENT
END:VCALENDAR