BEGIN:VCALENDAR
VERSION:2.0
PRODID:-//Cape Coral Community Church - ECPv6.15.20//NONSGML v1.0//EN
CALSCALE:GREGORIAN
METHOD:PUBLISH
X-ORIGINAL-URL:https://capecoralchurch.com
X-WR-CALDESC:Events for Cape Coral Community Church
REFRESH-INTERVAL;VALUE=DURATION:PT1H
X-Robots-Tag:noindex
X-PUBLISHED-TTL:PT1H
BEGIN:VTIMEZONE
TZID:America/New_York
BEGIN:DAYLIGHT
TZOFFSETFROM:-0500
TZOFFSETTO:-0400
TZNAME:EDT
DTSTART:20240310T070000
END:DAYLIGHT
BEGIN:STANDARD
TZOFFSETFROM:-0400
TZOFFSETTO:-0500
TZNAME:EST
DTSTART:20241103T060000
END:STANDARD
BEGIN:DAYLIGHT
TZOFFSETFROM:-0500
TZOFFSETTO:-0400
TZNAME:EDT
DTSTART:20250309T070000
END:DAYLIGHT
BEGIN:STANDARD
TZOFFSETFROM:-0400
TZOFFSETTO:-0500
TZNAME:EST
DTSTART:20251102T060000
END:STANDARD
BEGIN:DAYLIGHT
TZOFFSETFROM:-0500
TZOFFSETTO:-0400
TZNAME:EDT
DTSTART:20260308T070000
END:DAYLIGHT
BEGIN:STANDARD
TZOFFSETFROM:-0400
TZOFFSETTO:-0500
TZNAME:EST
DTSTART:20261101T060000
END:STANDARD
END:VTIMEZONE
BEGIN:VEVENT
DTSTART;TZID=America/New_York:20251217T183000
DTEND;TZID=America/New_York:20251217T193000
DTSTAMP:20260423T073714
CREATED:20251003T080227Z
LAST-MODIFIED:20251003T080227Z
UID:27656-1765996200-1765999800@capecoralchurch.com
SUMMARY:C4 Youth
DESCRIPTION:We have 2 grade groups (5th-7th & 8th-12th)\nMeets in the fellowship room with Cory & Melinda Winn.
URL:https://capecoralchurch.com/event/c4-youth-67/
LOCATION:Cape Coral Community Church
CATEGORIES:Youth
END:VEVENT
BEGIN:VEVENT
DTSTART;TZID=America/New_York:20251210T183000
DTEND;TZID=America/New_York:20251210T193000
DTSTAMP:20260423T073714
CREATED:20251003T080145Z
LAST-MODIFIED:20251003T080145Z
UID:27654-1765391400-1765395000@capecoralchurch.com
SUMMARY:C4 Youth
DESCRIPTION:We have 2 grade groups (5th-7th & 8th-12th)\nMeets in the fellowship room with Cory & Melinda Winn.
URL:https://capecoralchurch.com/event/c4-youth-66/
LOCATION:Cape Coral Community Church
CATEGORIES:Youth
END:VEVENT
BEGIN:VEVENT
DTSTART;TZID=America/New_York:20251203T183000
DTEND;TZID=America/New_York:20251203T193000
DTSTAMP:20260423T073714
CREATED:20251003T080047Z
LAST-MODIFIED:20251003T080047Z
UID:27652-1764786600-1764790200@capecoralchurch.com
SUMMARY:C4 Youth
DESCRIPTION:We have 2 grade groups (5th-7th & 8th-12th)\nMeets in the fellowship room with Cory & Melinda Winn.
URL:https://capecoralchurch.com/event/c4-youth-65/
LOCATION:Cape Coral Community Church
CATEGORIES:Youth
END:VEVENT
BEGIN:VEVENT
DTSTART;TZID=America/New_York:20251126T183000
DTEND;TZID=America/New_York:20251126T193000
DTSTAMP:20260423T073714
CREATED:20251003T075922Z
LAST-MODIFIED:20251003T075922Z
UID:27650-1764181800-1764185400@capecoralchurch.com
SUMMARY:C4 Youth
DESCRIPTION:We have 2 grade groups (5th-7th & 8th-12th)\nMeets in the fellowship room with Cory & Melinda Winn.
URL:https://capecoralchurch.com/event/c4-youth-64/
LOCATION:Cape Coral Community Church
CATEGORIES:Youth
END:VEVENT
BEGIN:VEVENT
DTSTART;TZID=America/New_York:20251119T183000
DTEND;TZID=America/New_York:20251119T193000
DTSTAMP:20260423T073714
CREATED:20251003T075839Z
LAST-MODIFIED:20251003T075839Z
UID:27648-1763577000-1763580600@capecoralchurch.com
SUMMARY:C4 Youth
DESCRIPTION:We have 2 grade groups (5th-7th & 8th-12th)\nMeets in the fellowship room with Cory & Melinda Winn.
URL:https://capecoralchurch.com/event/c4-youth-63/
LOCATION:Cape Coral Community Church
CATEGORIES:Youth
END:VEVENT
BEGIN:VEVENT
DTSTART;TZID=America/New_York:20251112T183000
DTEND;TZID=America/New_York:20251112T193000
DTSTAMP:20260423T073714
CREATED:20251003T075740Z
LAST-MODIFIED:20251003T075740Z
UID:27646-1762972200-1762975800@capecoralchurch.com
SUMMARY:C4 Youth
DESCRIPTION:We have 2 grade groups (5th-7th & 8th-12th)\nMeets in the fellowship room with Cory & Melinda Winn.
URL:https://capecoralchurch.com/event/c4-youth-62/
LOCATION:Cape Coral Community Church
CATEGORIES:Youth
END:VEVENT
BEGIN:VEVENT
DTSTART;TZID=America/New_York:20251105T183000
DTEND;TZID=America/New_York:20251105T193000
DTSTAMP:20260423T073714
CREATED:20251003T075658Z
LAST-MODIFIED:20251003T075658Z
UID:27644-1762367400-1762371000@capecoralchurch.com
SUMMARY:C4 Youth
DESCRIPTION:We have 2 grade groups (5th-7th & 8th-12th)\nMeets in the fellowship room with Cory & Melinda Winn.
URL:https://capecoralchurch.com/event/c4-youth-61/
LOCATION:Cape Coral Community Church
CATEGORIES:Youth
END:VEVENT
BEGIN:VEVENT
DTSTART;TZID=America/New_York:20251029T183000
DTEND;TZID=America/New_York:20251029T193000
DTSTAMP:20260423T073714
CREATED:20250815T065004Z
LAST-MODIFIED:20251002T204507Z
UID:27392-1761762600-1761766200@capecoralchurch.com
SUMMARY:C4 Youth
DESCRIPTION:We have 2 grade groups (5th-7th & 8th-12th)\nMeets in the fellowship room with Cory & Melinda Winn.
URL:https://capecoralchurch.com/event/c4-youth-60/
LOCATION:Cape Coral Community Church
CATEGORIES:Youth
END:VEVENT
BEGIN:VEVENT
DTSTART;TZID=America/New_York:20251022T183000
DTEND;TZID=America/New_York:20251022T193000
DTSTAMP:20260423T073714
CREATED:20250815T064935Z
LAST-MODIFIED:20251002T204506Z
UID:27390-1761157800-1761161400@capecoralchurch.com
SUMMARY:C4 Youth
DESCRIPTION:We have 2 grade groups (5th-7th & 8th-12th)\nMeets in the fellowship room with Cory & Melinda Winn.
URL:https://capecoralchurch.com/event/c4-youth-59/
LOCATION:Cape Coral Community Church
CATEGORIES:Youth
END:VEVENT
BEGIN:VEVENT
DTSTART;TZID=America/New_York:20251015T183000
DTEND;TZID=America/New_York:20251015T193000
DTSTAMP:20260423T073714
CREATED:20250815T064859Z
LAST-MODIFIED:20251002T204504Z
UID:27388-1760553000-1760556600@capecoralchurch.com
SUMMARY:C4 Youth
DESCRIPTION:We have 2 grade groups (5th-7th & 8th-12th)\nMeets in the fellowship room with Cory & Melinda Winn.
URL:https://capecoralchurch.com/event/c4-youth-58/
LOCATION:Cape Coral Community Church
CATEGORIES:Youth
END:VEVENT
BEGIN:VEVENT
DTSTART;TZID=America/New_York:20251008T183000
DTEND;TZID=America/New_York:20251008T193000
DTSTAMP:20260423T073714
CREATED:20250815T064828Z
LAST-MODIFIED:20251002T204503Z
UID:27386-1759948200-1759951800@capecoralchurch.com
SUMMARY:C4 Youth
DESCRIPTION:We have 2 grade groups (5th-7th & 8th-12th)\nMeets in the fellowship room with Cory & Melinda Winn.
URL:https://capecoralchurch.com/event/c4-youth-57/
LOCATION:Cape Coral Community Church
CATEGORIES:Youth
END:VEVENT
BEGIN:VEVENT
DTSTART;TZID=America/New_York:20251001T183000
DTEND;TZID=America/New_York:20251001T193000
DTSTAMP:20260423T073714
CREATED:20250815T064758Z
LAST-MODIFIED:20250912T130320Z
UID:27384-1759343400-1759347000@capecoralchurch.com
SUMMARY:C4 Youth
DESCRIPTION:
URL:https://capecoralchurch.com/event/c4-youth-56/
LOCATION:Cape Coral Community Church
CATEGORIES:Youth
END:VEVENT
BEGIN:VEVENT
DTSTART;TZID=America/New_York:20250924T183000
DTEND;TZID=America/New_York:20250924T193000
DTSTAMP:20260423T073714
CREATED:20250815T064725Z
LAST-MODIFIED:20250912T130304Z
UID:27382-1758738600-1758742200@capecoralchurch.com
SUMMARY:C4 Youth
DESCRIPTION:
URL:https://capecoralchurch.com/event/c4-youth-55/
LOCATION:Cape Coral Community Church
CATEGORIES:Youth
END:VEVENT
BEGIN:VEVENT
DTSTART;TZID=America/New_York:20250917T183000
DTEND;TZID=America/New_York:20250917T193000
DTSTAMP:20260423T073714
CREATED:20250815T064651Z
LAST-MODIFIED:20250912T130222Z
UID:27380-1758133800-1758137400@capecoralchurch.com
SUMMARY:C4 Youth
DESCRIPTION:
URL:https://capecoralchurch.com/event/c4-youth-54/
LOCATION:Cape Coral Community Church
CATEGORIES:Youth
END:VEVENT
BEGIN:VEVENT
DTSTART;TZID=America/New_York:20250910T183000
DTEND;TZID=America/New_York:20250910T200000
DTSTAMP:20260423T073714
CREATED:20250815T064624Z
LAST-MODIFIED:20250815T064624Z
UID:27378-1757529000-1757534400@capecoralchurch.com
SUMMARY:C4 Youth
DESCRIPTION:
URL:https://capecoralchurch.com/event/c4-youth-53/
LOCATION:Cape Coral Community Church
CATEGORIES:Youth
END:VEVENT
BEGIN:VEVENT
DTSTART;TZID=America/New_York:20250903T183000
DTEND;TZID=America/New_York:20250903T200000
DTSTAMP:20260423T073714
CREATED:20250815T064525Z
LAST-MODIFIED:20250815T064525Z
UID:27376-1756924200-1756929600@capecoralchurch.com
SUMMARY:C4 Youth
DESCRIPTION:
URL:https://capecoralchurch.com/event/c4-youth-52/
LOCATION:Cape Coral Community Church
CATEGORIES:Youth
END:VEVENT
BEGIN:VEVENT
DTSTART;TZID=America/New_York:20250827T183000
DTEND;TZID=America/New_York:20250827T200000
DTSTAMP:20260423T073714
CREATED:20250815T064441Z
LAST-MODIFIED:20250815T064441Z
UID:27374-1756319400-1756324800@capecoralchurch.com
SUMMARY:C4 Youth
DESCRIPTION:
URL:https://capecoralchurch.com/event/c4-youth-51/
LOCATION:Cape Coral Community Church
CATEGORIES:Youth
END:VEVENT
BEGIN:VEVENT
DTSTART;TZID=America/New_York:20250820T183000
DTEND;TZID=America/New_York:20250820T200000
DTSTAMP:20260423T073714
CREATED:20250815T064406Z
LAST-MODIFIED:20250815T064406Z
UID:27372-1755714600-1755720000@capecoralchurch.com
SUMMARY:C4 Youth
DESCRIPTION:
URL:https://capecoralchurch.com/event/c4-youth-50/
LOCATION:Cape Coral Community Church
CATEGORIES:Youth
END:VEVENT
BEGIN:VEVENT
DTSTART;TZID=America/New_York:20250813T183000
DTEND;TZID=America/New_York:20250813T200000
DTSTAMP:20260423T073714
CREATED:20250815T064335Z
LAST-MODIFIED:20250815T064335Z
UID:27370-1755109800-1755115200@capecoralchurch.com
SUMMARY:C4 Youth
DESCRIPTION:
URL:https://capecoralchurch.com/event/c4-youth-49/
LOCATION:Cape Coral Community Church
CATEGORIES:Youth
END:VEVENT
BEGIN:VEVENT
DTSTART;TZID=America/New_York:20250806T183000
DTEND;TZID=America/New_York:20250806T200000
DTSTAMP:20260423T073714
CREATED:20250815T064040Z
LAST-MODIFIED:20250815T064040Z
UID:27368-1754505000-1754510400@capecoralchurch.com
SUMMARY:C4 Youth
DESCRIPTION:
URL:https://capecoralchurch.com/event/c4-youth-48/
LOCATION:Cape Coral Community Church
CATEGORIES:Youth
END:VEVENT
BEGIN:VEVENT
DTSTART;TZID=America/New_York:20250730T183000
DTEND;TZID=America/New_York:20250730T200000
DTSTAMP:20260423T073714
CREATED:20250521T082935Z
LAST-MODIFIED:20250521T082935Z
UID:26921-1753900200-1753905600@capecoralchurch.com
SUMMARY:C4 Youth
DESCRIPTION:
URL:https://capecoralchurch.com/event/c4-youth-47/
LOCATION:Cape Coral Community Church
CATEGORIES:Youth
END:VEVENT
BEGIN:VEVENT
DTSTART;TZID=America/New_York:20250723T183000
DTEND;TZID=America/New_York:20250723T200000
DTSTAMP:20260423T073714
CREATED:20250521T082909Z
LAST-MODIFIED:20250521T082909Z
UID:26919-1753295400-1753300800@capecoralchurch.com
SUMMARY:C4 Youth
DESCRIPTION:
URL:https://capecoralchurch.com/event/c4-youth-46/
LOCATION:Cape Coral Community Church
CATEGORIES:Youth
END:VEVENT
BEGIN:VEVENT
DTSTART;TZID=America/New_York:20250716T183000
DTEND;TZID=America/New_York:20250716T200000
DTSTAMP:20260423T073714
CREATED:20250521T082846Z
LAST-MODIFIED:20250521T082846Z
UID:26917-1752690600-1752696000@capecoralchurch.com
SUMMARY:C4 Youth
DESCRIPTION:
URL:https://capecoralchurch.com/event/c4-youth-45/
LOCATION:Cape Coral Community Church
CATEGORIES:Youth
END:VEVENT
BEGIN:VEVENT
DTSTART;TZID=America/New_York:20250709T183000
DTEND;TZID=America/New_York:20250709T200000
DTSTAMP:20260423T073714
CREATED:20250521T082821Z
LAST-MODIFIED:20250521T082821Z
UID:26915-1752085800-1752091200@capecoralchurch.com
SUMMARY:C4 Youth
DESCRIPTION:
URL:https://capecoralchurch.com/event/c4-youth-44/
LOCATION:Cape Coral Community Church
CATEGORIES:Youth
END:VEVENT
BEGIN:VEVENT
DTSTART;TZID=America/New_York:20250702T183000
DTEND;TZID=America/New_York:20250702T200000
DTSTAMP:20260423T073714
CREATED:20250521T082755Z
LAST-MODIFIED:20250521T082755Z
UID:26913-1751481000-1751486400@capecoralchurch.com
SUMMARY:C4 Youth
DESCRIPTION:
URL:https://capecoralchurch.com/event/c4-youth-43/
LOCATION:Cape Coral Community Church
CATEGORIES:Youth
END:VEVENT
BEGIN:VEVENT
DTSTART;TZID=America/New_York:20250625T183000
DTEND;TZID=America/New_York:20250625T200000
DTSTAMP:20260423T073714
CREATED:20250521T082729Z
LAST-MODIFIED:20250521T082729Z
UID:26911-1750876200-1750881600@capecoralchurch.com
SUMMARY:C4 Youth
DESCRIPTION:
URL:https://capecoralchurch.com/event/c4-youth-42/
LOCATION:Cape Coral Community Church
CATEGORIES:Youth
END:VEVENT
BEGIN:VEVENT
DTSTART;TZID=America/New_York:20250618T183000
DTEND;TZID=America/New_York:20250618T200000
DTSTAMP:20260423T073714
CREATED:20250521T082710Z
LAST-MODIFIED:20250521T082710Z
UID:26909-1750271400-1750276800@capecoralchurch.com
SUMMARY:C4 Youth
DESCRIPTION:
URL:https://capecoralchurch.com/event/c4-youth-41/
LOCATION:Cape Coral Community Church
CATEGORIES:Youth
END:VEVENT
BEGIN:VEVENT
DTSTART;TZID=America/New_York:20250611T183000
DTEND;TZID=America/New_York:20250611T200000
DTSTAMP:20260423T073714
CREATED:20250521T082648Z
LAST-MODIFIED:20250521T082648Z
UID:26907-1749666600-1749672000@capecoralchurch.com
SUMMARY:C4 Youth
DESCRIPTION:
URL:https://capecoralchurch.com/event/c4-youth-40/
LOCATION:Cape Coral Community Church
CATEGORIES:Youth
END:VEVENT
BEGIN:VEVENT
DTSTART;TZID=America/New_York:20250604T183000
DTEND;TZID=America/New_York:20250604T200000
DTSTAMP:20260423T073714
CREATED:20250521T082627Z
LAST-MODIFIED:20250521T082627Z
UID:26905-1749061800-1749067200@capecoralchurch.com
SUMMARY:C4 Youth
DESCRIPTION:
URL:https://capecoralchurch.com/event/c4-youth-39/
LOCATION:Cape Coral Community Church
CATEGORIES:Youth
END:VEVENT
BEGIN:VEVENT
DTSTART;TZID=America/New_York:20250528T183000
DTEND;TZID=America/New_York:20250528T200000
DTSTAMP:20260423T073714
CREATED:20250404T143050Z
LAST-MODIFIED:20250404T143050Z
UID:26728-1748457000-1748462400@capecoralchurch.com
SUMMARY:C4 Youth
DESCRIPTION:
URL:https://capecoralchurch.com/event/c4-youth-38/
LOCATION:Cape Coral Community Church
CATEGORIES:Youth
END:VEVENT
END:VCALENDAR