BEGIN:VCALENDAR
VERSION:2.0
PRODID:-//Cape Coral Community Church - ECPv6.15.20//NONSGML v1.0//EN
CALSCALE:GREGORIAN
METHOD:PUBLISH
X-ORIGINAL-URL:https://capecoralchurch.com
X-WR-CALDESC:Events for Cape Coral Community Church
REFRESH-INTERVAL;VALUE=DURATION:PT1H
X-Robots-Tag:noindex
X-PUBLISHED-TTL:PT1H
BEGIN:VTIMEZONE
TZID:America/New_York
BEGIN:DAYLIGHT
TZOFFSETFROM:-0500
TZOFFSETTO:-0400
TZNAME:EDT
DTSTART:20240310T070000
END:DAYLIGHT
BEGIN:STANDARD
TZOFFSETFROM:-0400
TZOFFSETTO:-0500
TZNAME:EST
DTSTART:20241103T060000
END:STANDARD
BEGIN:DAYLIGHT
TZOFFSETFROM:-0500
TZOFFSETTO:-0400
TZNAME:EDT
DTSTART:20250309T070000
END:DAYLIGHT
BEGIN:STANDARD
TZOFFSETFROM:-0400
TZOFFSETTO:-0500
TZNAME:EST
DTSTART:20251102T060000
END:STANDARD
BEGIN:DAYLIGHT
TZOFFSETFROM:-0500
TZOFFSETTO:-0400
TZNAME:EDT
DTSTART:20260308T070000
END:DAYLIGHT
BEGIN:STANDARD
TZOFFSETFROM:-0400
TZOFFSETTO:-0500
TZNAME:EST
DTSTART:20261101T060000
END:STANDARD
END:VTIMEZONE
BEGIN:VEVENT
DTSTART;TZID=America/New_York:20251215T193000
DTEND;TZID=America/New_York:20251215T203000
DTSTAMP:20260423T060519
CREATED:20251003T073645Z
LAST-MODIFIED:20251003T073645Z
UID:27602-1765827000-1765830600@capecoralchurch.com
SUMMARY:Young Adult Bible Study
DESCRIPTION:Meets in the fellowship room with Erik Ziegler.
URL:https://capecoralchurch.com/event/young-adult-bible-study-11/
LOCATION:Cape Coral Community Church
CATEGORIES:Bible Study
END:VEVENT
BEGIN:VEVENT
DTSTART;TZID=America/New_York:20251208T193000
DTEND;TZID=America/New_York:20251208T203000
DTSTAMP:20260423T060519
CREATED:20251003T073548Z
LAST-MODIFIED:20251003T073548Z
UID:27600-1765222200-1765225800@capecoralchurch.com
SUMMARY:Young Adult Bible Study
DESCRIPTION:Meets in the fellowship room with Erik Ziegler.
URL:https://capecoralchurch.com/event/young-adult-bible-study-10/
LOCATION:Cape Coral Community Church
CATEGORIES:Bible Study
END:VEVENT
BEGIN:VEVENT
DTSTART;TZID=America/New_York:20251201T193000
DTEND;TZID=America/New_York:20251201T203000
DTSTAMP:20260423T060519
CREATED:20251003T073510Z
LAST-MODIFIED:20251003T073510Z
UID:27598-1764617400-1764621000@capecoralchurch.com
SUMMARY:Young Adult Bible Study
DESCRIPTION:Meets in the fellowship room with Erik Ziegler.
URL:https://capecoralchurch.com/event/young-adult-bible-study-9/
LOCATION:Cape Coral Community Church
CATEGORIES:Bible Study
END:VEVENT
BEGIN:VEVENT
DTSTART;TZID=America/New_York:20251124T193000
DTEND;TZID=America/New_York:20251124T203000
DTSTAMP:20260423T060519
CREATED:20251003T073343Z
LAST-MODIFIED:20251003T073343Z
UID:27596-1764012600-1764016200@capecoralchurch.com
SUMMARY:Young Adult Bible Study
DESCRIPTION:Meets in the fellowship room with Erik Ziegler.
URL:https://capecoralchurch.com/event/young-adult-bible-study-8/
LOCATION:Cape Coral Community Church
CATEGORIES:Bible Study
END:VEVENT
BEGIN:VEVENT
DTSTART;TZID=America/New_York:20251117T193000
DTEND;TZID=America/New_York:20251117T203000
DTSTAMP:20260423T060519
CREATED:20251003T073305Z
LAST-MODIFIED:20251003T073305Z
UID:27594-1763407800-1763411400@capecoralchurch.com
SUMMARY:Young Adult Bible Study
DESCRIPTION:Meets in the fellowship room with Erik Ziegler.
URL:https://capecoralchurch.com/event/young-adult-bible-study-7/
LOCATION:Cape Coral Community Church
CATEGORIES:Bible Study
END:VEVENT
BEGIN:VEVENT
DTSTART;TZID=America/New_York:20251110T193000
DTEND;TZID=America/New_York:20251110T203000
DTSTAMP:20260423T060519
CREATED:20251003T073225Z
LAST-MODIFIED:20251003T073225Z
UID:27592-1762803000-1762806600@capecoralchurch.com
SUMMARY:Young Adult Bible Study
DESCRIPTION:Meets in the fellowship room with Erik Ziegler.
URL:https://capecoralchurch.com/event/young-adult-bible-study-6/
LOCATION:Cape Coral Community Church
CATEGORIES:Bible Study
END:VEVENT
BEGIN:VEVENT
DTSTART;TZID=America/New_York:20251103T193000
DTEND;TZID=America/New_York:20251103T203000
DTSTAMP:20260423T060519
CREATED:20251003T073143Z
LAST-MODIFIED:20251003T073143Z
UID:27590-1762198200-1762201800@capecoralchurch.com
SUMMARY:Young Adult Bible Study
DESCRIPTION:Meets in the fellowship room with Erik Ziegler.
URL:https://capecoralchurch.com/event/young-adult-bible-study-5/
LOCATION:Cape Coral Community Church
CATEGORIES:Bible Study
END:VEVENT
BEGIN:VEVENT
DTSTART;TZID=America/New_York:20251027T193000
DTEND;TZID=America/New_York:20251027T203000
DTSTAMP:20260423T060519
CREATED:20251003T073103Z
LAST-MODIFIED:20251003T073103Z
UID:27588-1761593400-1761597000@capecoralchurch.com
SUMMARY:Young Adult Bible Study
DESCRIPTION:Meets in the fellowship room with Erik Ziegler.
URL:https://capecoralchurch.com/event/young-adult-bible-study-4/
LOCATION:Cape Coral Community Church
CATEGORIES:Bible Study
END:VEVENT
BEGIN:VEVENT
DTSTART;TZID=America/New_York:20251020T193000
DTEND;TZID=America/New_York:20251020T203000
DTSTAMP:20260423T060519
CREATED:20251003T073026Z
LAST-MODIFIED:20251003T073026Z
UID:27586-1760988600-1760992200@capecoralchurch.com
SUMMARY:Young Adult Bible Study
DESCRIPTION:Meets in the fellowship room with Erik Ziegler.
URL:https://capecoralchurch.com/event/young-adult-bible-study-3/
LOCATION:Cape Coral Community Church
CATEGORIES:Bible Study
END:VEVENT
BEGIN:VEVENT
DTSTART;TZID=America/New_York:20251013T193000
DTEND;TZID=America/New_York:20251013T203000
DTSTAMP:20260423T060519
CREATED:20251003T072947Z
LAST-MODIFIED:20251003T072947Z
UID:27583-1760383800-1760387400@capecoralchurch.com
SUMMARY:Young Adult Bible Study
DESCRIPTION:Meets in the fellowship room with Erik Ziegler.
URL:https://capecoralchurch.com/event/young-adult-bible-study-2/
LOCATION:Cape Coral Community Church
CATEGORIES:Bible Study
END:VEVENT
BEGIN:VEVENT
DTSTART;TZID=America/New_York:20251006T193000
DTEND;TZID=America/New_York:20251006T203000
DTSTAMP:20260423T060519
CREATED:20251002T203952Z
LAST-MODIFIED:20251002T203958Z
UID:27563-1759779000-1759782600@capecoralchurch.com
SUMMARY:Young Adult Bible Study
DESCRIPTION:Meets in the fellowship room with Erik Ziegler.
URL:https://capecoralchurch.com/event/young-adult-bible-study/
LOCATION:Cape Coral Community Church
CATEGORIES:Bible Study
END:VEVENT
END:VCALENDAR